BEGIN:VCALENDAR
VERSION:2.0
PRODID:-//North Florida Motorplex - ECPv6.15.20//NONSGML v1.0//EN
CALSCALE:GREGORIAN
METHOD:PUBLISH
X-WR-CALNAME:North Florida Motorplex
X-ORIGINAL-URL:https://northfloridamotorplex.com
X-WR-CALDESC:Events for North Florida Motorplex
REFRESH-INTERVAL;VALUE=DURATION:PT1H
X-Robots-Tag:noindex
X-PUBLISHED-TTL:PT1H
BEGIN:VTIMEZONE
TZID:America/New_York
BEGIN:DAYLIGHT
TZOFFSETFROM:-0500
TZOFFSETTO:-0400
TZNAME:EDT
DTSTART:20210314T070000
END:DAYLIGHT
BEGIN:STANDARD
TZOFFSETFROM:-0400
TZOFFSETTO:-0500
TZNAME:EST
DTSTART:20211107T060000
END:STANDARD
BEGIN:DAYLIGHT
TZOFFSETFROM:-0500
TZOFFSETTO:-0400
TZNAME:EDT
DTSTART:20220313T070000
END:DAYLIGHT
BEGIN:STANDARD
TZOFFSETFROM:-0400
TZOFFSETTO:-0500
TZNAME:EST
DTSTART:20221106T060000
END:STANDARD
BEGIN:DAYLIGHT
TZOFFSETFROM:-0500
TZOFFSETTO:-0400
TZNAME:EDT
DTSTART:20230312T070000
END:DAYLIGHT
BEGIN:STANDARD
TZOFFSETFROM:-0400
TZOFFSETTO:-0500
TZNAME:EST
DTSTART:20231105T060000
END:STANDARD
END:VTIMEZONE
BEGIN:VEVENT
DTSTART;VALUE=DATE:20220612
DTEND;VALUE=DATE:20220613
DTSTAMP:20260425T122903
CREATED:20220128T190913Z
LAST-MODIFIED:20220608T160849Z
UID:4501-1654992000-1655078399@northfloridamotorplex.com
SUMMARY:Runday Sunday
DESCRIPTION:Drag strip only\, mud track closed
URL:https://northfloridamotorplex.com/event/runday-sunday-2/
LOCATION:North Florida Motorplex\, 21281 Apachee Road\, Fountain\, FL\, 32438\, United States
CATEGORIES:Drag Race
ORGANIZER;CN="North Florida Motorplex":MAILTO:info@northfloridamotorplex.com
END:VEVENT
BEGIN:VEVENT
DTSTART;VALUE=DATE:20220605
DTEND;VALUE=DATE:20220606
DTSTAMP:20260425T122903
CREATED:20220128T182024Z
LAST-MODIFIED:20220523T204712Z
UID:4450-1654387200-1654473599@northfloridamotorplex.com
SUMMARY:Monster Energy Championship Bracket Racing Series #7
DESCRIPTION:
URL:https://northfloridamotorplex.com/event/monster-energy-championship-bracket-racing-series-7/
LOCATION:North Florida Motorplex\, 21281 Apachee Road\, Fountain\, FL\, 32438\, United States
CATEGORIES:Drag Race
ORGANIZER;CN="North Florida Motorplex":MAILTO:info@northfloridamotorplex.com
END:VEVENT
BEGIN:VEVENT
DTSTART;VALUE=DATE:20220604
DTEND;VALUE=DATE:20220605
DTSTAMP:20260425T122903
CREATED:20220128T182008Z
LAST-MODIFIED:20220523T204707Z
UID:4447-1654300800-1654387199@northfloridamotorplex.com
SUMMARY:Monster Energy Championship Bracket Racing Series #6
DESCRIPTION:
URL:https://northfloridamotorplex.com/event/monster-energy-championship-bracket-racing-series-6/
LOCATION:North Florida Motorplex\, 21281 Apachee Road\, Fountain\, FL\, 32438\, United States
CATEGORIES:Drag Race
ORGANIZER;CN="North Florida Motorplex":MAILTO:info@northfloridamotorplex.com
END:VEVENT
BEGIN:VEVENT
DTSTART;VALUE=DATE:20220603
DTEND;VALUE=DATE:20220604
DTSTAMP:20260425T122903
CREATED:20220519T172212Z
LAST-MODIFIED:20220523T204702Z
UID:5066-1654214400-1654300799@northfloridamotorplex.com
SUMMARY:Friday Night Lights Test-n-Tune
DESCRIPTION:
URL:https://northfloridamotorplex.com/event/friday-night-lights-test-n-tune-2/
LOCATION:North Florida Motorplex\, 21281 Apachee Road\, Fountain\, FL\, 32438\, United States
CATEGORIES:Drag Race
ORGANIZER;CN="North Florida Motorplex":MAILTO:info@northfloridamotorplex.com
END:VEVENT
BEGIN:VEVENT
DTSTART;VALUE=DATE:20220521
DTEND;VALUE=DATE:20220523
DTSTAMP:20260425T122903
CREATED:20220128T183148Z
LAST-MODIFIED:20220509T195028Z
UID:4472-1653091200-1653263999@northfloridamotorplex.com
SUMMARY:2-Day $50\,000 Monster Energy Championship Bracket Racing Series #4 & #5
DESCRIPTION:2-DAY $50\,000 COCA-COLA “RED LINE” BUNDLE OF CASH BLOW-OUT WEEKEND!\nSATURDAY\, May 21: Monster Energy Championship Bracket Racing #4\n$25\,000 purse for TOP class (box).  All classes running.\nBuy 1 entry get 1 entry FREE for $369 or $200 for a single day (box). \nSUNDAY\, May 22: Monster Energy Championship Bracket Racing Series #5\n$25\,000 purse for TOP class\, (box).  All classes running.\nBuy 1 entry get 1 entry FREE for $369 or $200 for a single day (box).
URL:https://northfloridamotorplex.com/event/2-day-50000-monster-energy-championship-bracket-racing-series-4-5/
LOCATION:North Florida Motorplex\, 21281 Apachee Road\, Fountain\, FL\, 32438\, United States
CATEGORIES:Drag Race
ORGANIZER;CN="North Florida Motorplex":MAILTO:info@northfloridamotorplex.com
END:VEVENT
BEGIN:VEVENT
DTSTART;VALUE=DATE:20220520
DTEND;VALUE=DATE:20220521
DTSTAMP:20260425T122903
CREATED:20220312T155521Z
LAST-MODIFIED:20220509T195016Z
UID:4837-1653004800-1653091199@northfloridamotorplex.com
SUMMARY:Friday Night Lights Test-n-Tune
DESCRIPTION:
URL:https://northfloridamotorplex.com/event/friday-night-lights-test-n-tune-6/
LOCATION:North Florida Motorplex\, 21281 Apachee Road\, Fountain\, FL\, 32438\, United States
CATEGORIES:Drag Race
ORGANIZER;CN="North Florida Motorplex":MAILTO:info@northfloridamotorplex.com
END:VEVENT
BEGIN:VEVENT
DTSTART;VALUE=DATE:20220515
DTEND;VALUE=DATE:20220516
DTSTAMP:20260425T122903
CREATED:20220128T190635Z
LAST-MODIFIED:20220128T190635Z
UID:4491-1652572800-1652659199@northfloridamotorplex.com
SUMMARY:Runday Sunday & Fun in the Mud Sunday
DESCRIPTION:Both tracks open! Fun in the Mud Sunday! ATV\, Side by Sides\, Jeeps\, Trucks welcomed. \nMust wear proper safety gear to participate.
URL:https://northfloridamotorplex.com/event/runday-sunday-fun-in-the-mud-sunday-4/
LOCATION:North Florida Motorplex\, 21281 Apachee Road\, Fountain\, FL\, 32438\, United States
CATEGORIES:Dirt Track Race,Drag Race
ORGANIZER;CN="North Florida Motorplex":MAILTO:info@northfloridamotorplex.com
END:VEVENT
BEGIN:VEVENT
DTSTART;VALUE=DATE:20220514
DTEND;VALUE=DATE:20220515
DTSTAMP:20260425T122903
CREATED:20220128T192903Z
LAST-MODIFIED:20220509T195109Z
UID:4507-1652486400-1652572799@northfloridamotorplex.com
SUMMARY:North Florida Radial Street Clash - Zero In Daily Driver
DESCRIPTION:  \nNorth Florida Radial Street Clash – Zero In Daily Driver \nClasses:\n28 x “NT”\nDaily Driver / Outlaw Driver (5 race points race) 5.70 & 6.50 index
URL:https://northfloridamotorplex.com/event/north-florida-radial-street-clash-2/
LOCATION:North Florida Motorplex\, 21281 Apachee Road\, Fountain\, FL\, 32438\, United States
CATEGORIES:Drag Race
ORGANIZER;CN="North Florida Motorplex":MAILTO:info@northfloridamotorplex.com
END:VEVENT
BEGIN:VEVENT
DTSTART;VALUE=DATE:20220507
DTEND;VALUE=DATE:20220508
DTSTAMP:20260425T122903
CREATED:20220128T182726Z
LAST-MODIFIED:20220519T172123Z
UID:4468-1651881600-1651967999@northfloridamotorplex.com
SUMMARY:Monster Energy Championship Bracket Racing Series #3 + Pro Mods & Jet Cars
DESCRIPTION:
URL:https://northfloridamotorplex.com/event/monster-energy-championship-bracket-racing-series-3/
LOCATION:North Florida Motorplex\, 21281 Apachee Road\, Fountain\, FL\, 32438\, United States
CATEGORIES:Drag Race
ORGANIZER;CN="North Florida Motorplex":MAILTO:info@northfloridamotorplex.com
END:VEVENT
BEGIN:VEVENT
DTSTART;VALUE=DATE:20220506
DTEND;VALUE=DATE:20220507
DTSTAMP:20260425T122903
CREATED:20220312T155527Z
LAST-MODIFIED:20220312T155527Z
UID:4838-1651795200-1651881599@northfloridamotorplex.com
SUMMARY:Friday Night Lights Test-n-Tune
DESCRIPTION:
URL:https://northfloridamotorplex.com/event/friday-night-lights-test-n-tune-7/
LOCATION:North Florida Motorplex\, 21281 Apachee Road\, Fountain\, FL\, 32438\, United States
CATEGORIES:Drag Race
ORGANIZER;CN="North Florida Motorplex":MAILTO:info@northfloridamotorplex.com
END:VEVENT
BEGIN:VEVENT
DTSTART;VALUE=DATE:20220429
DTEND;VALUE=DATE:20220501
DTSTAMP:20260425T122903
CREATED:20220128T192754Z
LAST-MODIFIED:20220418T231254Z
UID:4506-1651190400-1651363199@northfloridamotorplex.com
SUMMARY:Nostalgia Night Race Series + TNT & Brackets
DESCRIPTION:FRIDAY\, April 29: Nostalgia Night Race Series + Friday Night Lights Test-n-Tune \nSATURDAY\, April 30: Nostalgia Night Race Series + & E.T. Bracket Racing sponsored by Coca Cola
URL:https://northfloridamotorplex.com/event/nostalgia-night-race-series-tnt-brackets/
LOCATION:North Florida Motorplex\, 21281 Apachee Road\, Fountain\, FL\, 32438\, United States
CATEGORIES:Drag Race
ORGANIZER;CN="North Florida Motorplex":MAILTO:info@northfloridamotorplex.com
END:VEVENT
BEGIN:VEVENT
DTSTART;VALUE=DATE:20220422
DTEND;VALUE=DATE:20220424
DTSTAMP:20260425T122903
CREATED:20220128T192613Z
LAST-MODIFIED:20220422T131023Z
UID:4508-1650585600-1650758399@northfloridamotorplex.com
SUMMARY:Tri-State Grudge Fest N/T
DESCRIPTION:
URL:https://northfloridamotorplex.com/event/tri-state-grudge-fest-n-t/
LOCATION:North Florida Motorplex\, 21281 Apachee Road\, Fountain\, FL\, 32438\, United States
CATEGORIES:Drag Race
ORGANIZER;CN="North Florida Motorplex":MAILTO:info@northfloridamotorplex.com
END:VEVENT
BEGIN:VEVENT
DTSTART;VALUE=DATE:20220416
DTEND;VALUE=DATE:20220417
DTSTAMP:20260425T122903
CREATED:20220128T181411Z
LAST-MODIFIED:20220509T195210Z
UID:4438-1650067200-1650153599@northfloridamotorplex.com
SUMMARY:Monster Energy Championship Bracket Racing Series #2: David “Wildcat” Seay Memorial Race
DESCRIPTION:
URL:https://northfloridamotorplex.com/event/monster-energy-championship-bracket-racing-series-2/
LOCATION:North Florida Motorplex\, 21281 Apachee Road\, Fountain\, FL\, 32438\, United States
CATEGORIES:Drag Race
ORGANIZER;CN="North Florida Motorplex":MAILTO:info@northfloridamotorplex.com
END:VEVENT
BEGIN:VEVENT
DTSTART;VALUE=DATE:20220415
DTEND;VALUE=DATE:20220416
DTSTAMP:20260425T122903
CREATED:20220222T222820Z
LAST-MODIFIED:20220222T223542Z
UID:4690-1649980800-1650067199@northfloridamotorplex.com
SUMMARY:Friday Night Lights Test-n-Tune Gambler's Race
DESCRIPTION:
URL:https://northfloridamotorplex.com/event/friday-night-lights-test-n-tune-gamblers-race/
LOCATION:North Florida Motorplex\, 21281 Apachee Road\, Fountain\, FL\, 32438\, United States
CATEGORIES:Drag Race
ORGANIZER;CN="North Florida Motorplex":MAILTO:info@northfloridamotorplex.com
END:VEVENT
BEGIN:VEVENT
DTSTART;VALUE=DATE:20220410
DTEND;VALUE=DATE:20220411
DTSTAMP:20260425T122903
CREATED:20220128T181906Z
LAST-MODIFIED:20220509T195236Z
UID:4445-1649548800-1649635199@northfloridamotorplex.com
SUMMARY:Runday Sunday
DESCRIPTION:Drag strip only\, mud track closed
URL:https://northfloridamotorplex.com/event/runday-sunday/
LOCATION:North Florida Motorplex\, 21281 Apachee Road\, Fountain\, FL\, 32438\, United States
CATEGORIES:Drag Race
ORGANIZER;CN="North Florida Motorplex":MAILTO:info@northfloridamotorplex.com
END:VEVENT
BEGIN:VEVENT
DTSTART;VALUE=DATE:20220409
DTEND;VALUE=DATE:20220410
DTSTAMP:20260425T122903
CREATED:20220128T192543Z
LAST-MODIFIED:20220329T164854Z
UID:4505-1649462400-1649548799@northfloridamotorplex.com
SUMMARY:North Florida Radial Street Clash - Zero In Daily Driver
DESCRIPTION:North Florida Radial Street Clash – Zero In Daily Driver
URL:https://northfloridamotorplex.com/event/north-florida-radial-street-clash/
LOCATION:North Florida Motorplex\, 21281 Apachee Road\, Fountain\, FL\, 32438\, United States
CATEGORIES:Drag Race
ORGANIZER;CN="North Florida Motorplex":MAILTO:info@northfloridamotorplex.com
END:VEVENT
BEGIN:VEVENT
DTSTART;VALUE=DATE:20220402
DTEND;VALUE=DATE:20220403
DTSTAMP:20260425T122903
CREATED:20220128T181751Z
LAST-MODIFIED:20220312T234922Z
UID:4443-1648857600-1648943999@northfloridamotorplex.com
SUMMARY:Street Outlaws Attack North Florida Motorplex
DESCRIPTION:See THREE Street Outlaws superstars with test-n-tune runes and autograph signings/photo sessions!\n– Meet Daddy Dave\n– “Reaper” James Goad will reveal his new car for 2022\n– Chuck Seitsinger and his “2nd Amendment” Mustang
URL:https://northfloridamotorplex.com/event/street-outlaws/
LOCATION:FL
CATEGORIES:Drag Race,Miscellaneous
END:VEVENT
BEGIN:VEVENT
DTSTART;VALUE=DATE:20220402
DTEND;VALUE=DATE:20220403
DTSTAMP:20260425T122903
CREATED:20220128T181525Z
LAST-MODIFIED:20220312T234912Z
UID:4440-1648857600-1648943999@northfloridamotorplex.com
SUMMARY:SNRA Pro Mod Shootout + Jet Funny Cars
DESCRIPTION:APRIL FOOL’S SNRA PRO MOD SHOOTOUT with Jet Funny cars featuring “The Black Pearl” \n(Sticky Mafia In the House) Jimmy Bradshaw
URL:https://northfloridamotorplex.com/event/snra-pro-mod-shootout-jet-funny-cars/
LOCATION:North Florida Motorplex\, 21281 Apachee Road\, Fountain\, FL\, 32438\, United States
CATEGORIES:Drag Race
ORGANIZER;CN="North Florida Motorplex":MAILTO:info@northfloridamotorplex.com
END:VEVENT
BEGIN:VEVENT
DTSTART;VALUE=DATE:20220402
DTEND;VALUE=DATE:20220403
DTSTAMP:20260425T122903
CREATED:20220128T180629Z
LAST-MODIFIED:20220312T234907Z
UID:4427-1648857600-1648943999@northfloridamotorplex.com
SUMMARY:Monster Energy Championship Bracket Racing Series #1
DESCRIPTION:
URL:https://northfloridamotorplex.com/event/monster-energy-championship-bracket-racing-series-1-david-wildcat-seay-memorial-race/
LOCATION:North Florida Motorplex\, 21281 Apachee Road\, Fountain\, FL\, 32438\, United States
CATEGORIES:Drag Race
ORGANIZER;CN="North Florida Motorplex":MAILTO:info@northfloridamotorplex.com
END:VEVENT
BEGIN:VEVENT
DTSTART;VALUE=DATE:20220401
DTEND;VALUE=DATE:20220402
DTSTAMP:20260425T122903
CREATED:20220128T181319Z
LAST-MODIFIED:20220312T155311Z
UID:4436-1648771200-1648857599@northfloridamotorplex.com
SUMMARY:Friday Night Lights Test-n-Tune & Gambler's Race
DESCRIPTION:
URL:https://northfloridamotorplex.com/event/friday-night-lights-test-n-tune/
LOCATION:North Florida Motorplex\, 21281 Apachee Road\, Fountain\, FL\, 32438\, United States
CATEGORIES:Drag Race
ORGANIZER;CN="North Florida Motorplex":MAILTO:info@northfloridamotorplex.com
END:VEVENT
BEGIN:VEVENT
DTSTART;VALUE=DATE:20220327
DTEND;VALUE=DATE:20220328
DTSTAMP:20260425T122903
CREATED:20220128T181105Z
LAST-MODIFIED:20220128T181105Z
UID:4434-1648339200-1648425599@northfloridamotorplex.com
SUMMARY:Grand Opening Rain Date (if needed)
DESCRIPTION:
URL:https://northfloridamotorplex.com/event/grand-opening-rain-date-if-needed/
LOCATION:North Florida Motorplex\, 21281 Apachee Road\, Fountain\, FL\, 32438\, United States
CATEGORIES:Drag Race
ORGANIZER;CN="North Florida Motorplex":MAILTO:info@northfloridamotorplex.com
END:VEVENT
BEGIN:VEVENT
DTSTART;VALUE=DATE:20220325
DTEND;VALUE=DATE:20220327
DTSTAMP:20260425T122903
CREATED:20220128T181028Z
LAST-MODIFIED:20220224T201133Z
UID:4431-1648166400-1648339199@northfloridamotorplex.com
SUMMARY:Grand Opening Big Tire No Prep with JJ Da Boss
DESCRIPTION:Join us for our grand opening event with Street Outlaws star JJ Da Boss and $5\,000 to WIN for big tire no prep racers. \n    	\n        Get Tickets Here!        \n        \n 
URL:https://northfloridamotorplex.com/event/grand-opening-big-tire-no-prep-with-jj-da-boss/
LOCATION:North Florida Motorplex\, 21281 Apachee Road\, Fountain\, FL\, 32438\, United States
CATEGORIES:Drag Race
ORGANIZER;CN="North Florida Motorplex":MAILTO:info@northfloridamotorplex.com
END:VEVENT
BEGIN:VEVENT
DTSTART;TZID=America/New_York:20220319T160000
DTEND;TZID=America/New_York:20220319T200000
DTSTAMP:20260425T122903
CREATED:20220128T175600Z
LAST-MODIFIED:20220312T155259Z
UID:4417-1647705600-1647720000@northfloridamotorplex.com
SUMMARY:NFM Open House + Meet & Greet
DESCRIPTION:Welcome to the new North Florida Motorplex! We will be hosting our official Open House for racers only. \nMeet & Greet 4:00 PM
URL:https://northfloridamotorplex.com/event/nfm-open-house/
LOCATION:North Florida Motorplex\, 21281 Apachee Road\, Fountain\, FL\, 32438\, United States
CATEGORIES:Dirt Track Race,Drag Race,Miscellaneous
ORGANIZER;CN="North Florida Motorplex":MAILTO:info@northfloridamotorplex.com
END:VEVENT
BEGIN:VEVENT
DTSTART;TZID=America/New_York:20220305T100000
DTEND;TZID=America/New_York:20220305T150000
DTSTAMP:20260425T122903
CREATED:20220224T215235Z
LAST-MODIFIED:20220224T215235Z
UID:4737-1646474400-1646492400@northfloridamotorplex.com
SUMMARY:Job Fair: We Are Hiring!
DESCRIPTION:North Florida Motorplex is HIRING for the following positions:\n• Concessions\n• Cooks\n• Food Prep\n• Ticket Takers\n• Security\n• Parking Attendants\n• Janitorial\n• EMTs\n• Cashiers \n    	\n        Click Here to Download Application        \n        \nJoin us on: March 4\, 2022 @ 3 pm – 6 pm & Saturday March 5\, 2022 @ 10 am – 3 pm
URL:https://northfloridamotorplex.com/event/job-fair-we-are-hiring-2/
LOCATION:North Florida Motorplex\, 21281 Apachee Road\, Fountain\, FL\, 32438\, United States
CATEGORIES:Miscellaneous
ORGANIZER;CN="North Florida Motorplex":MAILTO:info@northfloridamotorplex.com
END:VEVENT
BEGIN:VEVENT
DTSTART;TZID=America/New_York:20220304T150000
DTEND;TZID=America/New_York:20220304T180000
DTSTAMP:20260425T122903
CREATED:20220224T215151Z
LAST-MODIFIED:20220224T215151Z
UID:4734-1646406000-1646416800@northfloridamotorplex.com
SUMMARY:Job Fair: We Are Hiring!
DESCRIPTION:North Florida Motorplex is HIRING for the following positions:\n• Concessions\n• Cooks\n• Food Prep\n• Ticket Takers\n• Security\n• Parking Attendants\n• Janitorial\n• EMTs\n• Cashiers \n    	\n        Click Here to Download Application        \n        \nJoin us on: March 4\, 2022 @ 3 pm – 6 pm & Saturday March 5\, 2022 @ 10 am – 3 pm
URL:https://northfloridamotorplex.com/event/job-fair-we-are-hiring/
LOCATION:North Florida Motorplex\, 21281 Apachee Road\, Fountain\, FL\, 32438\, United States
CATEGORIES:Miscellaneous
ORGANIZER;CN="North Florida Motorplex":MAILTO:info@northfloridamotorplex.com
END:VEVENT
END:VCALENDAR