BEGIN:VCALENDAR
VERSION:2.0
PRODID:-//North Florida Motorplex - ECPv6.15.20//NONSGML v1.0//EN
CALSCALE:GREGORIAN
METHOD:PUBLISH
X-ORIGINAL-URL:https://northfloridamotorplex.com
X-WR-CALDESC:Events for North Florida Motorplex
REFRESH-INTERVAL;VALUE=DURATION:PT1H
X-Robots-Tag:noindex
X-PUBLISHED-TTL:PT1H
BEGIN:VTIMEZONE
TZID:America/New_York
BEGIN:DAYLIGHT
TZOFFSETFROM:-0500
TZOFFSETTO:-0400
TZNAME:EDT
DTSTART:20240310T070000
END:DAYLIGHT
BEGIN:STANDARD
TZOFFSETFROM:-0400
TZOFFSETTO:-0500
TZNAME:EST
DTSTART:20241103T060000
END:STANDARD
BEGIN:DAYLIGHT
TZOFFSETFROM:-0500
TZOFFSETTO:-0400
TZNAME:EDT
DTSTART:20250309T070000
END:DAYLIGHT
BEGIN:STANDARD
TZOFFSETFROM:-0400
TZOFFSETTO:-0500
TZNAME:EST
DTSTART:20251102T060000
END:STANDARD
BEGIN:DAYLIGHT
TZOFFSETFROM:-0500
TZOFFSETTO:-0400
TZNAME:EDT
DTSTART:20260308T070000
END:DAYLIGHT
BEGIN:STANDARD
TZOFFSETFROM:-0400
TZOFFSETTO:-0500
TZNAME:EST
DTSTART:20261101T060000
END:STANDARD
END:VTIMEZONE
BEGIN:VEVENT
DTSTART;VALUE=DATE:20250802
DTEND;VALUE=DATE:20250803
DTSTAMP:20260423T134649
CREATED:20250205T174859Z
LAST-MODIFIED:20250205T174859Z
UID:7546-1754092800-1754179199@northfloridamotorplex.com
SUMMARY:WDRA Bracket/Index Race
DESCRIPTION:Points #6
URL:https://northfloridamotorplex.com/event/wdra-bracket-index-race-6/
LOCATION:North Florida Motorplex\, 21281 Apachee Road\, Fountain\, FL\, 32438\, United States
CATEGORIES:Drag Race
ORGANIZER;CN="North Florida Motorplex":MAILTO:info@northfloridamotorplex.com
END:VEVENT
BEGIN:VEVENT
DTSTART;TZID=America/New_York:20250801T160000
DTEND;TZID=America/New_York:20250801T230000
DTSTAMP:20260423T134650
CREATED:20250205T174528Z
LAST-MODIFIED:20250205T174528Z
UID:7515-1754064000-1754089200@northfloridamotorplex.com
SUMMARY:Test-N-Tune
DESCRIPTION:Gates open at 4:00 PM
URL:https://northfloridamotorplex.com/event/test-n-tune-13/
LOCATION:North Florida Motorplex\, 21281 Apachee Road\, Fountain\, FL\, 32438\, United States
CATEGORIES:Drag Race
ORGANIZER;CN="North Florida Motorplex":MAILTO:info@northfloridamotorplex.com
END:VEVENT
BEGIN:VEVENT
DTSTART;VALUE=DATE:20250725
DTEND;VALUE=DATE:20250727
DTSTAMP:20260423T134650
CREATED:20250205T175631Z
LAST-MODIFIED:20250205T175631Z
UID:7591-1753401600-1753574399@northfloridamotorplex.com
SUMMARY:TBA
DESCRIPTION:
URL:https://northfloridamotorplex.com/event/tba-4/
LOCATION:North Florida Motorplex\, 21281 Apachee Road\, Fountain\, FL\, 32438\, United States
END:VEVENT
BEGIN:VEVENT
DTSTART;VALUE=DATE:20250719
DTEND;VALUE=DATE:20250720
DTSTAMP:20260423T134650
CREATED:20250205T175258Z
LAST-MODIFIED:20250205T175258Z
UID:7566-1752883200-1752969599@northfloridamotorplex.com
SUMMARY:King of the Plex 28X/Turbo B's No Time Race
DESCRIPTION:Points #3\nSeries #3
URL:https://northfloridamotorplex.com/event/king-of-the-plex-28x-turbo-bs-no-time-race-3/
LOCATION:North Florida Motorplex\, 21281 Apachee Road\, Fountain\, FL\, 32438\, United States
CATEGORIES:Drag Race
END:VEVENT
BEGIN:VEVENT
DTSTART;TZID=America/New_York:20250718T160000
DTEND;TZID=America/New_York:20250718T230000
DTSTAMP:20260423T134650
CREATED:20250205T174518Z
LAST-MODIFIED:20250205T174518Z
UID:7517-1752854400-1752879600@northfloridamotorplex.com
SUMMARY:Test-N-Tune
DESCRIPTION:Gates open at 4:00 PM
URL:https://northfloridamotorplex.com/event/test-n-tune-12/
LOCATION:North Florida Motorplex\, 21281 Apachee Road\, Fountain\, FL\, 32438\, United States
CATEGORIES:Drag Race
ORGANIZER;CN="North Florida Motorplex":MAILTO:info@northfloridamotorplex.com
END:VEVENT
BEGIN:VEVENT
DTSTART;VALUE=DATE:20250712
DTEND;VALUE=DATE:20250713
DTSTAMP:20260423T134650
CREATED:20250205T174813Z
LAST-MODIFIED:20250205T174813Z
UID:7549-1752278400-1752364799@northfloridamotorplex.com
SUMMARY:WDRA Bracket/Index Race
DESCRIPTION:Points #5
URL:https://northfloridamotorplex.com/event/wdra-bracket-index-race-5/
LOCATION:North Florida Motorplex\, 21281 Apachee Road\, Fountain\, FL\, 32438\, United States
CATEGORIES:Drag Race
ORGANIZER;CN="North Florida Motorplex":MAILTO:info@northfloridamotorplex.com
END:VEVENT
BEGIN:VEVENT
DTSTART;TZID=America/New_York:20250711T160000
DTEND;TZID=America/New_York:20250711T230000
DTSTAMP:20260423T134650
CREATED:20250205T174508Z
LAST-MODIFIED:20250205T174508Z
UID:7523-1752249600-1752274800@northfloridamotorplex.com
SUMMARY:Test-N-Tune
DESCRIPTION:Gates open at 4:00 PM
URL:https://northfloridamotorplex.com/event/test-n-tune-11/
LOCATION:North Florida Motorplex\, 21281 Apachee Road\, Fountain\, FL\, 32438\, United States
CATEGORIES:Drag Race
ORGANIZER;CN="North Florida Motorplex":MAILTO:info@northfloridamotorplex.com
END:VEVENT
BEGIN:VEVENT
DTSTART;VALUE=DATE:20250704
DTEND;VALUE=DATE:20250706
DTSTAMP:20260423T134650
CREATED:20250205T180022Z
LAST-MODIFIED:20250205T180022Z
UID:7607-1751587200-1751759999@northfloridamotorplex.com
SUMMARY:CLOSED for Independence Day
DESCRIPTION:
URL:https://northfloridamotorplex.com/event/closed-for-independence-day/
LOCATION:North Florida Motorplex\, 21281 Apachee Road\, Fountain\, FL\, 32438\, United States
CATEGORIES:CLOSED
ORGANIZER;CN="North Florida Motorplex":MAILTO:info@northfloridamotorplex.com
END:VEVENT
BEGIN:VEVENT
DTSTART;VALUE=DATE:20250626
DTEND;VALUE=DATE:20250630
DTSTAMP:20260423T134650
CREATED:20250205T173541Z
LAST-MODIFIED:20250306T014613Z
UID:7484-1750896000-1751241599@northfloridamotorplex.com
SUMMARY:$20K Jr. Dragster Weekend
DESCRIPTION:
URL:https://northfloridamotorplex.com/event/20k-jr-dragster-weekend/
LOCATION:North Florida Motorplex\, 21281 Apachee Road\, Fountain\, FL\, 32438\, United States
CATEGORIES:Drag Race
ATTACH;FMTTYPE=image/jpeg:https://northfloridamotorplex.com/wp-content/uploads/2025/02/2025-06-2629a.jpg
ORGANIZER;CN="North Florida Motorplex":MAILTO:info@northfloridamotorplex.com
END:VEVENT
BEGIN:VEVENT
DTSTART;TZID=America/New_York:20250622T110000
DTEND;TZID=America/New_York:20250622T180000
DTSTAMP:20260423T134650
CREATED:20250205T175033Z
LAST-MODIFIED:20250205T175033Z
UID:7560-1750590000-1750615200@northfloridamotorplex.com
SUMMARY:Sunday Funday
DESCRIPTION:Gates open at 11:00 AM
URL:https://northfloridamotorplex.com/event/sunday-funday-6/
LOCATION:North Florida Motorplex\, 21281 Apachee Road\, Fountain\, FL\, 32438\, United States
CATEGORIES:Drag Race
ATTACH;FMTTYPE=image/jpeg:https://northfloridamotorplex.com/wp-content/uploads/2024/08/2024-Sunday-Funday.jpg
ORGANIZER;CN="North Florida Motorplex":MAILTO:info@northfloridamotorplex.com
END:VEVENT
BEGIN:VEVENT
DTSTART;VALUE=DATE:20250621
DTEND;VALUE=DATE:20250622
DTSTAMP:20260423T134650
CREATED:20250205T175621Z
LAST-MODIFIED:20250205T175621Z
UID:7594-1750464000-1750550399@northfloridamotorplex.com
SUMMARY:TBA
DESCRIPTION:
URL:https://northfloridamotorplex.com/event/tba-3/
LOCATION:North Florida Motorplex\, 21281 Apachee Road\, Fountain\, FL\, 32438\, United States
END:VEVENT
BEGIN:VEVENT
DTSTART;VALUE=DATE:20250614
DTEND;VALUE=DATE:20250615
DTSTAMP:20260423T134650
CREATED:20250503T163506Z
LAST-MODIFIED:20250503T163523Z
UID:7873-1749859200-1749945599@northfloridamotorplex.com
SUMMARY:Bobby Childs Grudge Fest
DESCRIPTION:
URL:https://northfloridamotorplex.com/event/bobby-childs-grudge-fest/
LOCATION:FL
CATEGORIES:Drag Race
ATTACH;FMTTYPE=image/jpeg:https://northfloridamotorplex.com/wp-content/uploads/2025/05/2025-06-14.jpg
END:VEVENT
BEGIN:VEVENT
DTSTART;VALUE=DATE:20250607
DTEND;VALUE=DATE:20250608
DTSTAMP:20260423T134650
CREATED:20250205T174803Z
LAST-MODIFIED:20250205T174803Z
UID:7548-1749254400-1749340799@northfloridamotorplex.com
SUMMARY:WDRA Bracket/Index Race
DESCRIPTION:Points #4
URL:https://northfloridamotorplex.com/event/wdra-bracket-index-race-4/
LOCATION:North Florida Motorplex\, 21281 Apachee Road\, Fountain\, FL\, 32438\, United States
CATEGORIES:Drag Race
ORGANIZER;CN="North Florida Motorplex":MAILTO:info@northfloridamotorplex.com
END:VEVENT
BEGIN:VEVENT
DTSTART;TZID=America/New_York:20250606T160000
DTEND;TZID=America/New_York:20250606T230000
DTSTAMP:20260423T134650
CREATED:20250205T174453Z
LAST-MODIFIED:20250205T174453Z
UID:7522-1749225600-1749250800@northfloridamotorplex.com
SUMMARY:Test-N-Tune
DESCRIPTION:Gates open at 4:00 PM
URL:https://northfloridamotorplex.com/event/test-n-tune-10/
LOCATION:North Florida Motorplex\, 21281 Apachee Road\, Fountain\, FL\, 32438\, United States
CATEGORIES:Drag Race
ORGANIZER;CN="North Florida Motorplex":MAILTO:info@northfloridamotorplex.com
END:VEVENT
BEGIN:VEVENT
DTSTART;VALUE=DATE:20250530
DTEND;VALUE=DATE:20250601
DTSTAMP:20260423T134650
CREATED:20250205T175608Z
LAST-MODIFIED:20250205T175608Z
UID:7593-1748563200-1748735999@northfloridamotorplex.com
SUMMARY:TBA
DESCRIPTION:
URL:https://northfloridamotorplex.com/event/tba-2/
LOCATION:North Florida Motorplex\, 21281 Apachee Road\, Fountain\, FL\, 32438\, United States
END:VEVENT
BEGIN:VEVENT
DTSTART;VALUE=DATE:20250524
DTEND;VALUE=DATE:20250525
DTSTAMP:20260423T134650
CREATED:20250205T175235Z
LAST-MODIFIED:20250205T175235Z
UID:7565-1748044800-1748131199@northfloridamotorplex.com
SUMMARY:King of the Plex 28X/Turbo B's No Time Race
DESCRIPTION:Points #2\nSeries #2
URL:https://northfloridamotorplex.com/event/king-of-the-plex-28x-turbo-bs-no-time-race-2/
LOCATION:North Florida Motorplex\, 21281 Apachee Road\, Fountain\, FL\, 32438\, United States
CATEGORIES:Drag Race
END:VEVENT
BEGIN:VEVENT
DTSTART;TZID=America/New_York:20250523T160000
DTEND;TZID=America/New_York:20250523T230000
DTSTAMP:20260423T134650
CREATED:20250205T174444Z
LAST-MODIFIED:20250205T174444Z
UID:7521-1748016000-1748041200@northfloridamotorplex.com
SUMMARY:Test-N-Tune
DESCRIPTION:Gates open at 4:00 PM
URL:https://northfloridamotorplex.com/event/test-n-tune-9/
LOCATION:North Florida Motorplex\, 21281 Apachee Road\, Fountain\, FL\, 32438\, United States
CATEGORIES:Drag Race
ORGANIZER;CN="North Florida Motorplex":MAILTO:info@northfloridamotorplex.com
END:VEVENT
BEGIN:VEVENT
DTSTART;VALUE=DATE:20250516
DTEND;VALUE=DATE:20250518
DTSTAMP:20260423T134650
CREATED:20250205T173516Z
LAST-MODIFIED:20250205T173516Z
UID:7477-1747353600-1747526399@northfloridamotorplex.com
SUMMARY:Mud Racers Association (MRA) Dirt Drag Weekend
DESCRIPTION:
URL:https://northfloridamotorplex.com/event/mud-racers-association-mra-dirt-drag-weekend/
LOCATION:North Florida Motorplex\, 21281 Apachee Road\, Fountain\, FL\, 32438\, United States
CATEGORIES:Dirt Track Race
END:VEVENT
BEGIN:VEVENT
DTSTART;VALUE=DATE:20250509
DTEND;VALUE=DATE:20250511
DTSTAMP:20260423T134650
CREATED:20250205T180005Z
LAST-MODIFIED:20250205T180005Z
UID:7609-1746748800-1746921599@northfloridamotorplex.com
SUMMARY:CLOSED for Mother's Day
DESCRIPTION:
URL:https://northfloridamotorplex.com/event/closed-for-mothers-day/
LOCATION:North Florida Motorplex\, 21281 Apachee Road\, Fountain\, FL\, 32438\, United States
CATEGORIES:CLOSED
ORGANIZER;CN="North Florida Motorplex":MAILTO:info@northfloridamotorplex.com
END:VEVENT
BEGIN:VEVENT
DTSTART;VALUE=DATE:20250503
DTEND;VALUE=DATE:20250504
DTSTAMP:20260423T134650
CREATED:20250205T174752Z
LAST-MODIFIED:20250503T163259Z
UID:7550-1746230400-1746316799@northfloridamotorplex.com
SUMMARY:RAINED OUT: WDRA Bracket/Index Race
DESCRIPTION:Points #3
URL:https://northfloridamotorplex.com/event/wdra-bracket-index-race-3/
LOCATION:North Florida Motorplex\, 21281 Apachee Road\, Fountain\, FL\, 32438\, United States
CATEGORIES:Drag Race
ORGANIZER;CN="North Florida Motorplex":MAILTO:info@northfloridamotorplex.com
END:VEVENT
BEGIN:VEVENT
DTSTART;TZID=America/New_York:20250502T160000
DTEND;TZID=America/New_York:20250502T230000
DTSTAMP:20260423T134650
CREATED:20250205T174434Z
LAST-MODIFIED:20250205T174434Z
UID:7520-1746201600-1746226800@northfloridamotorplex.com
SUMMARY:Test-N-Tune
DESCRIPTION:Gates open at 4:00 PM
URL:https://northfloridamotorplex.com/event/test-n-tune-8/
LOCATION:North Florida Motorplex\, 21281 Apachee Road\, Fountain\, FL\, 32438\, United States
CATEGORIES:Drag Race
ORGANIZER;CN="North Florida Motorplex":MAILTO:info@northfloridamotorplex.com
END:VEVENT
BEGIN:VEVENT
DTSTART;TZID=America/New_York:20250425T160000
DTEND;TZID=America/New_York:20250425T230000
DTSTAMP:20260423T134650
CREATED:20250205T174023Z
LAST-MODIFIED:20250414T235856Z
UID:7487-1745596800-1745622000@northfloridamotorplex.com
SUMMARY:Ryan Martin & Kyle Kelley's $20K Showdown + Misfit Gassers & Test-N-Tune
DESCRIPTION:CLICK HERE FOR TICKETS!\n \nCLICK HERE FOR TICKETS!
URL:https://northfloridamotorplex.com/event/misfit-gassers-test-n-tune/
LOCATION:North Florida Motorplex\, 21281 Apachee Road\, Fountain\, FL\, 32438\, United States
CATEGORIES:Drag Race
ATTACH;FMTTYPE=image/jpeg:https://northfloridamotorplex.com/wp-content/uploads/2025/02/2025-04-2526a-1.jpg
END:VEVENT
BEGIN:VEVENT
DTSTART;VALUE=DATE:20250418
DTEND;VALUE=DATE:20250420
DTSTAMP:20260423T134650
CREATED:20250205T173345Z
LAST-MODIFIED:20250205T173345Z
UID:7475-1744934400-1745107199@northfloridamotorplex.com
SUMMARY:CLOSED for Easter
DESCRIPTION:
URL:https://northfloridamotorplex.com/event/closed-for-easter/
LOCATION:North Florida Motorplex\, 21281 Apachee Road\, Fountain\, FL\, 32438\, United States
CATEGORIES:CLOSED
ORGANIZER;CN="North Florida Motorplex":MAILTO:info@northfloridamotorplex.com
END:VEVENT
BEGIN:VEVENT
DTSTART;VALUE=DATE:20250412
DTEND;VALUE=DATE:20250413
DTSTAMP:20260423T134650
CREATED:20250205T174744Z
LAST-MODIFIED:20250313T204247Z
UID:7551-1744416000-1744502399@northfloridamotorplex.com
SUMMARY:WDRA Bracket/Index Race
DESCRIPTION:Points #2
URL:https://northfloridamotorplex.com/event/wdra-bracket-index-race-2/
LOCATION:North Florida Motorplex\, 21281 Apachee Road\, Fountain\, FL\, 32438\, United States
CATEGORIES:Drag Race
ATTACH;FMTTYPE=image/jpeg:https://northfloridamotorplex.com/wp-content/uploads/2025/02/2025-04-12.jpg
ORGANIZER;CN="North Florida Motorplex":MAILTO:info@northfloridamotorplex.com
END:VEVENT
BEGIN:VEVENT
DTSTART;TZID=America/New_York:20250411T160000
DTEND;TZID=America/New_York:20250411T230000
DTSTAMP:20260423T134650
CREATED:20250205T174425Z
LAST-MODIFIED:20250205T174425Z
UID:7519-1744387200-1744412400@northfloridamotorplex.com
SUMMARY:Test-N-Tune
DESCRIPTION:Gates open at 4:00 PM
URL:https://northfloridamotorplex.com/event/test-n-tune-7/
LOCATION:North Florida Motorplex\, 21281 Apachee Road\, Fountain\, FL\, 32438\, United States
CATEGORIES:Drag Race
ORGANIZER;CN="North Florida Motorplex":MAILTO:info@northfloridamotorplex.com
END:VEVENT
BEGIN:VEVENT
DTSTART;VALUE=DATE:20250405
DTEND;VALUE=DATE:20250406
DTSTAMP:20260423T134650
CREATED:20250205T173920Z
LAST-MODIFIED:20250306T014857Z
UID:7485-1743811200-1743897599@northfloridamotorplex.com
SUMMARY:King of the Plex 28X/Turbo B's No Time Race
DESCRIPTION:
URL:https://northfloridamotorplex.com/event/king-of-the-plex-28x-turbo-bs-no-time-race-7/
LOCATION:North Florida Motorplex\, 21281 Apachee Road\, Fountain\, FL\, 32438\, United States
CATEGORIES:Drag Race
ATTACH;FMTTYPE=image/jpeg:https://northfloridamotorplex.com/wp-content/uploads/2025/02/2025-04-0405a.jpg
END:VEVENT
BEGIN:VEVENT
DTSTART;TZID=America/New_York:20250404T160000
DTEND;TZID=America/New_York:20250404T230000
DTSTAMP:20260423T134650
CREATED:20250205T174415Z
LAST-MODIFIED:20250205T174415Z
UID:7518-1743782400-1743807600@northfloridamotorplex.com
SUMMARY:Test-N-Tune
DESCRIPTION:Gates open at 4:00 PM
URL:https://northfloridamotorplex.com/event/test-n-tune-6/
LOCATION:North Florida Motorplex\, 21281 Apachee Road\, Fountain\, FL\, 32438\, United States
CATEGORIES:Drag Race
ORGANIZER;CN="North Florida Motorplex":MAILTO:info@northfloridamotorplex.com
END:VEVENT
BEGIN:VEVENT
DTSTART;TZID=America/New_York:20250330T110000
DTEND;TZID=America/New_York:20250330T180000
DTSTAMP:20260423T134650
CREATED:20250205T173231Z
LAST-MODIFIED:20250313T203910Z
UID:7474-1743332400-1743357600@northfloridamotorplex.com
SUMMARY:Sunday Funday
DESCRIPTION:Gates open at 11:00 AM
URL:https://northfloridamotorplex.com/event/sunday-funday-4/
LOCATION:North Florida Motorplex\, 21281 Apachee Road\, Fountain\, FL\, 32438\, United States
CATEGORIES:Drag Race
ATTACH;FMTTYPE=image/jpeg:https://northfloridamotorplex.com/wp-content/uploads/2025/02/2025-03-30.jpg
ORGANIZER;CN="North Florida Motorplex":MAILTO:info@northfloridamotorplex.com
END:VEVENT
BEGIN:VEVENT
DTSTART;VALUE=DATE:20250321
DTEND;VALUE=DATE:20250323
DTSTAMP:20260423T134650
CREATED:20250205T173200Z
LAST-MODIFIED:20250313T204048Z
UID:7473-1742515200-1742687999@northfloridamotorplex.com
SUMMARY:SNRA Pro Mod Season Opener & Big Money Index Challenge
DESCRIPTION:
URL:https://northfloridamotorplex.com/event/snra-pro-mod-season-opener-big-money-index-challenge/
LOCATION:North Florida Motorplex\, 21281 Apachee Road\, Fountain\, FL\, 32438\, United States
CATEGORIES:Drag Race
ATTACH;FMTTYPE=image/jpeg:https://northfloridamotorplex.com/wp-content/uploads/2025/02/2025-03-2122.jpg
ORGANIZER;CN="North Florida Motorplex":MAILTO:info@northfloridamotorplex.com
END:VEVENT
BEGIN:VEVENT
DTSTART;TZID=America/New_York:20250314T160000
DTEND;TZID=America/New_York:20250314T230000
DTSTAMP:20260423T134650
CREATED:20250205T174340Z
LAST-MODIFIED:20250205T174340Z
UID:7525-1741968000-1741993200@northfloridamotorplex.com
SUMMARY:Test-N-Tune
DESCRIPTION:Gates open at 4:00 PM
URL:https://northfloridamotorplex.com/event/test-n-tune-5/
LOCATION:North Florida Motorplex\, 21281 Apachee Road\, Fountain\, FL\, 32438\, United States
CATEGORIES:Drag Race
ORGANIZER;CN="North Florida Motorplex":MAILTO:info@northfloridamotorplex.com
END:VEVENT
END:VCALENDAR