BEGIN:VCALENDAR
VERSION:2.0
PRODID:-//North Florida Motorplex - ECPv6.15.20//NONSGML v1.0//EN
CALSCALE:GREGORIAN
METHOD:PUBLISH
X-WR-CALNAME:North Florida Motorplex
X-ORIGINAL-URL:https://northfloridamotorplex.com
X-WR-CALDESC:Events for North Florida Motorplex
REFRESH-INTERVAL;VALUE=DURATION:PT1H
X-Robots-Tag:noindex
X-PUBLISHED-TTL:PT1H
BEGIN:VTIMEZONE
TZID:America/New_York
BEGIN:DAYLIGHT
TZOFFSETFROM:-0500
TZOFFSETTO:-0400
TZNAME:EDT
DTSTART:20210314T070000
END:DAYLIGHT
BEGIN:STANDARD
TZOFFSETFROM:-0400
TZOFFSETTO:-0500
TZNAME:EST
DTSTART:20211107T060000
END:STANDARD
BEGIN:DAYLIGHT
TZOFFSETFROM:-0500
TZOFFSETTO:-0400
TZNAME:EDT
DTSTART:20220313T070000
END:DAYLIGHT
BEGIN:STANDARD
TZOFFSETFROM:-0400
TZOFFSETTO:-0500
TZNAME:EST
DTSTART:20221106T060000
END:STANDARD
BEGIN:DAYLIGHT
TZOFFSETFROM:-0500
TZOFFSETTO:-0400
TZNAME:EDT
DTSTART:20230312T070000
END:DAYLIGHT
BEGIN:STANDARD
TZOFFSETFROM:-0400
TZOFFSETTO:-0500
TZNAME:EST
DTSTART:20231105T060000
END:STANDARD
BEGIN:DAYLIGHT
TZOFFSETFROM:-0500
TZOFFSETTO:-0400
TZNAME:EDT
DTSTART:20240310T070000
END:DAYLIGHT
BEGIN:STANDARD
TZOFFSETFROM:-0400
TZOFFSETTO:-0500
TZNAME:EST
DTSTART:20241103T060000
END:STANDARD
END:VTIMEZONE
BEGIN:VEVENT
DTSTART;VALUE=DATE:20230930
DTEND;VALUE=DATE:20231001
DTSTAMP:20260425T095925
CREATED:20230302T185600Z
LAST-MODIFIED:20230906T214524Z
UID:6674-1696032000-1696118399@northfloridamotorplex.com
SUMMARY:Pro Mod Shootout/ Peanut Patch Index Points Series Race #5/ Free Entry Bracket Race
DESCRIPTION:
URL:https://northfloridamotorplex.com/event/peanut-patch-index-points-series-race-5-free-entry-bracket-race/
LOCATION:North Florida Motorplex\, 21281 Apachee Road\, Fountain\, FL\, 32438\, United States
CATEGORIES:Drag Race
ATTACH;FMTTYPE=image/jpeg:https://northfloridamotorplex.com/wp-content/uploads/2023/03/Sept-index.jpg
END:VEVENT
BEGIN:VEVENT
DTSTART;TZID=America/New_York:20230916T150000
DTEND;TZID=America/New_York:20230916T233000
DTSTAMP:20260425T095925
CREATED:20230718T220053Z
LAST-MODIFIED:20230906T214354Z
UID:6870-1694876400-1694907000@northfloridamotorplex.com
SUMMARY:Battle at the Beach $5\,000 Guaranteed No Prep Event
DESCRIPTION:  \n \n 
URL:https://northfloridamotorplex.com/event/north-florida-5000-guaranteed-team-no-prep-event/
LOCATION:North Florida Motorplex\, 21281 Apachee Road\, Fountain\, FL\, 32438\, United States
CATEGORIES:Drag Race
ATTACH;FMTTYPE=image/png:https://northfloridamotorplex.com/wp-content/uploads/2023/07/no-prep.png
END:VEVENT
BEGIN:VEVENT
DTSTART;TZID=America/New_York:20230819T170000
DTEND;TZID=America/New_York:20230819T233000
DTSTAMP:20260425T095925
CREATED:20230716T163436Z
LAST-MODIFIED:20230818T144045Z
UID:6858-1692464400-1692487800@northfloridamotorplex.com
SUMMARY:Panhandle Takeover
DESCRIPTION:
URL:https://northfloridamotorplex.com/event/panhandle-takeover/
CATEGORIES:Drag Race
ATTACH;FMTTYPE=image/jpeg:https://northfloridamotorplex.com/wp-content/uploads/2023/07/take-3.jpg
END:VEVENT
BEGIN:VEVENT
DTSTART;TZID=America/New_York:20230818T180000
DTEND;TZID=America/New_York:20230818T233000
DTSTAMP:20260425T095925
CREATED:20230818T144326Z
LAST-MODIFIED:20230818T144326Z
UID:6943-1692381600-1692401400@northfloridamotorplex.com
SUMMARY:Friday Night Testing/ NO HARD TIRES
DESCRIPTION:
URL:https://northfloridamotorplex.com/event/friday-night-testing-no-hard-tires/
CATEGORIES:Drag Race
ATTACH;FMTTYPE=image/png:https://northfloridamotorplex.com/wp-content/uploads/2023/08/FRI.png
END:VEVENT
BEGIN:VEVENT
DTSTART;TZID=America/New_York:20230811T170000
DTEND;TZID=America/New_York:20230811T220000
DTSTAMP:20260425T095925
CREATED:20230725T212422Z
LAST-MODIFIED:20230809T231315Z
UID:6912-1691773200-1691791200@northfloridamotorplex.com
SUMMARY:Back to School TNT Night/ All Students Free!
DESCRIPTION:
URL:https://northfloridamotorplex.com/event/back-to-school-tnt-night/
LOCATION:North Florida Motorplex\, 21281 Apachee Road\, Fountain\, FL\, 32438\, United States
CATEGORIES:Drag Race
ATTACH;FMTTYPE=image/jpeg:https://northfloridamotorplex.com/wp-content/uploads/2023/07/back2school.jpg
END:VEVENT
BEGIN:VEVENT
DTSTART;VALUE=DATE:20230728
DTEND;VALUE=DATE:20230806
DTSTAMP:20260425T095925
CREATED:20230725T170547Z
LAST-MODIFIED:20230725T170652Z
UID:6909-1690502400-1691279999@northfloridamotorplex.com
SUMMARY:Closed for Maintenance
DESCRIPTION:
URL:https://northfloridamotorplex.com/event/closed/
CATEGORIES:Dirt Track Race,Drag Race
END:VEVENT
BEGIN:VEVENT
DTSTART;VALUE=DATE:20230624
DTEND;VALUE=DATE:20230625
DTSTAMP:20260425T095925
CREATED:20230302T185427Z
LAST-MODIFIED:20230611T233207Z
UID:6672-1687564800-1687651199@northfloridamotorplex.com
SUMMARY:Peanut Patch Index Points Series Race #4/ Free Entry Bracket Race
DESCRIPTION:
URL:https://northfloridamotorplex.com/event/peanut-patch-index-points-series-race-4-free-entry-bracket-race/
LOCATION:North Florida Motorplex\, 21281 Apachee Road\, Fountain\, FL\, 32438\, United States
CATEGORIES:Drag Race
END:VEVENT
BEGIN:VEVENT
DTSTART;VALUE=DATE:20230527
DTEND;VALUE=DATE:20230528
DTSTAMP:20260425T095925
CREATED:20230202T180827Z
LAST-MODIFIED:20230202T180827Z
UID:6474-1685145600-1685231999@northfloridamotorplex.com
SUMMARY:Peanut Patch Index Points Series Race #3/ Free Entry Bracket Race
DESCRIPTION:
URL:https://northfloridamotorplex.com/event/peanut-patch-index-points-series-race-3-free-entry-bracket-race/
LOCATION:North Florida Motorplex\, 21281 Apachee Road\, Fountain\, FL\, 32438\, United States
CATEGORIES:Drag Race
END:VEVENT
BEGIN:VEVENT
DTSTART;TZID=America/New_York:20230422T080000
DTEND;TZID=America/New_York:20230422T170000
DTSTAMP:20260425T095925
CREATED:20230202T175843Z
LAST-MODIFIED:20230202T175911Z
UID:6462-1682150400-1682182800@northfloridamotorplex.com
SUMMARY:SNRA Pro Mods/Peanut Patch Index Points Series Race #2/ Free Entry Bracket Race
DESCRIPTION:
URL:https://northfloridamotorplex.com/event/peanut-patch-index-points-series-race-2-free-entry-bracket-race/
LOCATION:North Florida Motorplex\, 21281 Apachee Road\, Fountain\, FL\, 32438\, United States
CATEGORIES:Drag Race
END:VEVENT
BEGIN:VEVENT
DTSTART;VALUE=DATE:20230304
DTEND;VALUE=DATE:20230305
DTSTAMP:20260425T095925
CREATED:20230116T194951Z
LAST-MODIFIED:20230301T005718Z
UID:6340-1677888000-1677974399@northfloridamotorplex.com
SUMMARY:Peanut Patch Index Points Series Race #1/ Free Entry Bracket Race
DESCRIPTION:
URL:https://northfloridamotorplex.com/event/index-points-series-race-free-entry-bracket-race/
LOCATION:North Florida Motorplex\, 21281 Apachee Road\, Fountain\, FL\, 32438\, United States
CATEGORIES:Drag Race
END:VEVENT
BEGIN:VEVENT
DTSTART;VALUE=DATE:20221119
DTEND;VALUE=DATE:20221120
DTSTAMP:20260425T095925
CREATED:20220128T193930Z
LAST-MODIFIED:20221115T164207Z
UID:4526-1668816000-1668902399@northfloridamotorplex.com
SUMMARY:Extreme 28's $10\,000 To Win Shootout
DESCRIPTION:
URL:https://northfloridamotorplex.com/event/extreme-28s-10000-to-win/
LOCATION:North Florida Motorplex\, 21281 Apachee Road\, Fountain\, FL\, 32438\, United States
CATEGORIES:Drag Race
ORGANIZER;CN="North Florida Motorplex":MAILTO:info@northfloridamotorplex.com
END:VEVENT
BEGIN:VEVENT
DTSTART;VALUE=DATE:20221029
DTEND;VALUE=DATE:20221031
DTSTAMP:20260425T095925
CREATED:20220128T193811Z
LAST-MODIFIED:20220930T212309Z
UID:4525-1667001600-1667174399@northfloridamotorplex.com
SUMMARY:Halloween Spooktacular: Pro Mods + Nitro Funny Cars + Bracket Racing
DESCRIPTION:HALLOWEEN SPOOKTACULAR Sponsored by Carolina Pride Meats\, Jambalaya Girl\, Piggly Wiggly Food For Less featuring \nSATURDAY\, October 29: \n– Costume Contest for Kids and Adults\n– SNRA Pro Mod Finals\n– Nitromethane Funny Cars “Howling Night of Fire” heads-up Chicago-style racing\n– E.T. Bracket Racing with a Scary Good Purse! \nSUNDAY\, October 30:\n– Rain make-up for Saturday
URL:https://northfloridamotorplex.com/event/2-day-halloween-spooktacular-pro-mods-nitro-funny-cars-brackets/
LOCATION:North Florida Motorplex\, 21281 Apachee Road\, Fountain\, FL\, 32438\, United States
CATEGORIES:Drag Race
ORGANIZER;CN="North Florida Motorplex":MAILTO:info@northfloridamotorplex.com
END:VEVENT
BEGIN:VEVENT
DTSTART;VALUE=DATE:20221021
DTEND;VALUE=DATE:20221024
DTSTAMP:20260425T095925
CREATED:20220128T193519Z
LAST-MODIFIED:20220904T174612Z
UID:4524-1666310400-1666569599@northfloridamotorplex.com
SUMMARY:AHDRA
DESCRIPTION:AHDRA Nitro Harleys\, Baggers & much\, much more! \nCome see what your Harley Davidson will do in 1/8 mile.
URL:https://northfloridamotorplex.com/event/ahdra/
LOCATION:North Florida Motorplex\, 21281 Apachee Road\, Fountain\, FL\, 32438\, United States
CATEGORIES:Drag Race
ORGANIZER;CN="North Florida Motorplex":MAILTO:info@northfloridamotorplex.com
END:VEVENT
BEGIN:VEVENT
DTSTART;VALUE=DATE:20221014
DTEND;VALUE=DATE:20221016
DTSTAMP:20260425T095925
CREATED:20220128T193440Z
LAST-MODIFIED:20221012T024232Z
UID:4523-1665705600-1665878399@northfloridamotorplex.com
SUMMARY:Carolina N/T
DESCRIPTION:Friday: \nGates open- 4pm\, TNT 6-11p\, GA $25\, TNT $25 All cars and bikes \nSaturday: \nGates open-10am\, TNT and Shakedowns 2pm\, Drivers Meeting 5pm\, Judging for Car/Truck/Bike Show 5pm\, GA $25\, TNT $25\, 2 Day Pass $45 \nCAROLINA N/T… ALL-STARS INVADES NORTH FLORIDA MOTORPLEX PLUS CAR / TRUCK / BIKE SHOW. \nSTICKY MAFIA TRACK SERVICES WILL BE TAKING CARE OF BUSINESS!  JIMMY BRADSHAW!
URL:https://northfloridamotorplex.com/event/carolina-n-t/
LOCATION:North Florida Motorplex\, 21281 Apachee Road\, Fountain\, FL\, 32438\, United States
CATEGORIES:Drag Race
ORGANIZER;CN="North Florida Motorplex":MAILTO:info@northfloridamotorplex.com
END:VEVENT
BEGIN:VEVENT
DTSTART;VALUE=DATE:20220917
DTEND;VALUE=DATE:20220919
DTSTAMP:20260425T095925
CREATED:20220128T182554Z
LAST-MODIFIED:20220827T173621Z
UID:4461-1663372800-1663545599@northfloridamotorplex.com
SUMMARY:Monster Energy Championship Bracket Racing Series #9 & #10
DESCRIPTION:
URL:https://northfloridamotorplex.com/event/monster-energy-championship-bracket-racing-series-14-15/
LOCATION:North Florida Motorplex\, 21281 Apachee Road\, Fountain\, FL\, 32438\, United States
CATEGORIES:Drag Race
ORGANIZER;CN="North Florida Motorplex":MAILTO:info@northfloridamotorplex.com
END:VEVENT
BEGIN:VEVENT
DTSTART;VALUE=DATE:20220916
DTEND;VALUE=DATE:20220917
DTSTAMP:20260425T095925
CREATED:20220519T173301Z
LAST-MODIFIED:20220902T164612Z
UID:5092-1663286400-1663372799@northfloridamotorplex.com
SUMMARY:Test N Tune/Ladies Night
DESCRIPTION:
URL:https://northfloridamotorplex.com/event/friday-night-lights-test-n-tune-14/
LOCATION:North Florida Motorplex\, 21281 Apachee Road\, Fountain\, FL\, 32438\, United States
CATEGORIES:Drag Race
ORGANIZER;CN="North Florida Motorplex":MAILTO:info@northfloridamotorplex.com
END:VEVENT
BEGIN:VEVENT
DTSTART;TZID=America/New_York:20220903T180000
DTEND;TZID=America/New_York:20220903T230000
DTSTAMP:20260425T095925
CREATED:20220824T194326Z
LAST-MODIFIED:20220827T171123Z
UID:5492-1662228000-1662246000@northfloridamotorplex.com
SUMMARY:TNT/ LADIES NIGHT
DESCRIPTION:
URL:https://northfloridamotorplex.com/event/5492/
LOCATION:North Florida Motorplex\, 21281 Apachee Road\, Fountain\, FL\, 32438\, United States
CATEGORIES:Drag Race
END:VEVENT
BEGIN:VEVENT
DTSTART;VALUE=DATE:20220820
DTEND;VALUE=DATE:20220821
DTSTAMP:20260425T095925
CREATED:20220128T193334Z
LAST-MODIFIED:20220421T154023Z
UID:4521-1660953600-1661039999@northfloridamotorplex.com
SUMMARY:Panhandle Takeover N/T
DESCRIPTION:
URL:https://northfloridamotorplex.com/event/panhandle-takeover-n-t/
LOCATION:North Florida Motorplex\, 21281 Apachee Road\, Fountain\, FL\, 32438\, United States
CATEGORIES:Drag Race
ORGANIZER;CN="North Florida Motorplex":MAILTO:info@northfloridamotorplex.com
END:VEVENT
BEGIN:VEVENT
DTSTART;VALUE=DATE:20220819
DTEND;VALUE=DATE:20220820
DTSTAMP:20260425T095925
CREATED:20220128T183650Z
LAST-MODIFIED:20220128T183650Z
UID:4479-1660867200-1660953599@northfloridamotorplex.com
SUMMARY:Friday Night Lights Test-n-Tune
DESCRIPTION:
URL:https://northfloridamotorplex.com/event/friday-night-lights-test-n-tune-4/
LOCATION:North Florida Motorplex\, 21281 Apachee Road\, Fountain\, FL\, 32438\, United States
CATEGORIES:Drag Race
ORGANIZER;CN="North Florida Motorplex":MAILTO:info@northfloridamotorplex.com
END:VEVENT
BEGIN:VEVENT
DTSTART;VALUE=DATE:20220814
DTEND;VALUE=DATE:20220815
DTSTAMP:20260425T095925
CREATED:20220312T155626Z
LAST-MODIFIED:20220312T155626Z
UID:4841-1660435200-1660521599@northfloridamotorplex.com
SUMMARY:Runday Sunday
DESCRIPTION:Drag strip only\, mud track closed
URL:https://northfloridamotorplex.com/event/runday-sunday-5/
LOCATION:North Florida Motorplex\, 21281 Apachee Road\, Fountain\, FL\, 32438\, United States
CATEGORIES:Drag Race
ORGANIZER;CN="North Florida Motorplex":MAILTO:info@northfloridamotorplex.com
END:VEVENT
BEGIN:VEVENT
DTSTART;VALUE=DATE:20220806
DTEND;VALUE=DATE:20220808
DTSTAMP:20260425T095925
CREATED:20220128T182513Z
LAST-MODIFIED:20220614T164702Z
UID:4464-1659744000-1659916799@northfloridamotorplex.com
SUMMARY:2-Day Monster Energy Championship Bracket Racing Series #12 & #13
DESCRIPTION:2 DAY POINTS RACE….PEANUT PATCH BOILED PEANUTS “RUN FOR A TON OF PEANUTS” \n2-DAY PEANUT PATCH BOILED PEANUTS “RUN FOR A TON OF PEANUTS” WEEKEND!\nSATURDAY: Monster Energy Championship Bracket Racing #12 \nSUNDAY: Monster Energy Championship Bracket Racing Series #13
URL:https://northfloridamotorplex.com/event/2-day-40000-monster-energy-championship-bracket-racing-series-12-13/
LOCATION:North Florida Motorplex\, 21281 Apachee Road\, Fountain\, FL\, 32438\, United States
CATEGORIES:Drag Race
ORGANIZER;CN="North Florida Motorplex":MAILTO:info@northfloridamotorplex.com
END:VEVENT
BEGIN:VEVENT
DTSTART;VALUE=DATE:20220805
DTEND;VALUE=DATE:20220806
DTSTAMP:20260425T095925
CREATED:20220519T172832Z
LAST-MODIFIED:20220519T172832Z
UID:5084-1659657600-1659743999@northfloridamotorplex.com
SUMMARY:Friday Night Lights Test-n-Tune
DESCRIPTION:
URL:https://northfloridamotorplex.com/event/friday-night-lights-test-n-tune-12/
LOCATION:North Florida Motorplex\, 21281 Apachee Road\, Fountain\, FL\, 32438\, United States
CATEGORIES:Drag Race
ORGANIZER;CN="North Florida Motorplex":MAILTO:info@northfloridamotorplex.com
END:VEVENT
BEGIN:VEVENT
DTSTART;VALUE=DATE:20220731
DTEND;VALUE=DATE:20220801
DTSTAMP:20260425T095925
CREATED:20220519T172800Z
LAST-MODIFIED:20220519T172800Z
UID:5081-1659225600-1659311999@northfloridamotorplex.com
SUMMARY:Runday Sunday
DESCRIPTION:Drag strip only\, mud track closed
URL:https://northfloridamotorplex.com/event/runday-sunday-6/
LOCATION:North Florida Motorplex\, 21281 Apachee Road\, Fountain\, FL\, 32438\, United States
CATEGORIES:Drag Race
ORGANIZER;CN="North Florida Motorplex":MAILTO:info@northfloridamotorplex.com
END:VEVENT
BEGIN:VEVENT
DTSTART;VALUE=DATE:20220722
DTEND;VALUE=DATE:20220724
DTSTAMP:20260425T095925
CREATED:20220519T172646Z
LAST-MODIFIED:20220614T164435Z
UID:5077-1658448000-1658620799@northfloridamotorplex.com
SUMMARY:Dirty South
DESCRIPTION:
URL:https://northfloridamotorplex.com/event/dirty-south/
LOCATION:North Florida Motorplex\, 21281 Apachee Road\, Fountain\, FL\, 32438\, United States
CATEGORIES:Drag Race
ORGANIZER;CN="North Florida Motorplex":MAILTO:info@northfloridamotorplex.com
END:VEVENT
BEGIN:VEVENT
DTSTART;VALUE=DATE:20220717
DTEND;VALUE=DATE:20220718
DTSTAMP:20260425T095925
CREATED:20220128T182403Z
LAST-MODIFIED:20220614T164708Z
UID:4457-1658016000-1658102399@northfloridamotorplex.com
SUMMARY:Monster Energy Championship Bracket Racing Series #11
DESCRIPTION:
URL:https://northfloridamotorplex.com/event/monster-energy-championship-bracket-racing-series-11/
LOCATION:North Florida Motorplex\, 21281 Apachee Road\, Fountain\, FL\, 32438\, United States
CATEGORIES:Drag Race
ORGANIZER;CN="North Florida Motorplex":MAILTO:info@northfloridamotorplex.com
END:VEVENT
BEGIN:VEVENT
DTSTART;VALUE=DATE:20220716
DTEND;VALUE=DATE:20220717
DTSTAMP:20260425T095925
CREATED:20220128T182335Z
LAST-MODIFIED:20220614T164715Z
UID:4455-1657929600-1658015999@northfloridamotorplex.com
SUMMARY:Monster Energy Championship Bracket Racing Series #10
DESCRIPTION:
URL:https://northfloridamotorplex.com/event/monster-energy-championship-bracket-racing-series-10/
LOCATION:North Florida Motorplex\, 21281 Apachee Road\, Fountain\, FL\, 32438\, United States
CATEGORIES:Drag Race
ORGANIZER;CN="North Florida Motorplex":MAILTO:info@northfloridamotorplex.com
END:VEVENT
BEGIN:VEVENT
DTSTART;VALUE=DATE:20220715
DTEND;VALUE=DATE:20220716
DTSTAMP:20260425T095925
CREATED:20220519T172517Z
LAST-MODIFIED:20220519T172517Z
UID:5075-1657843200-1657929599@northfloridamotorplex.com
SUMMARY:Friday Night Lights Test-n-Tune
DESCRIPTION:
URL:https://northfloridamotorplex.com/event/friday-night-lights-test-n-tune-11/
LOCATION:North Florida Motorplex\, 21281 Apachee Road\, Fountain\, FL\, 32438\, United States
CATEGORIES:Drag Race
ORGANIZER;CN="North Florida Motorplex":MAILTO:info@northfloridamotorplex.com
END:VEVENT
BEGIN:VEVENT
DTSTART;VALUE=DATE:20220709
DTEND;VALUE=DATE:20220710
DTSTAMP:20260425T095925
CREATED:20220128T192956Z
LAST-MODIFIED:20220621T181102Z
UID:4511-1657324800-1657411199@northfloridamotorplex.com
SUMMARY:North Florida Radial Street Clash - Zero In Daily Driver
DESCRIPTION:North Florida Radial Street Clash – Zero In Daily Driver \nClasses:\n28 x “NT”\nDaily Driver / Outlaw Driver (5 race points race) 5.70 & 6.50 index
URL:https://northfloridamotorplex.com/event/north-florida-radial-street-clash-4/
LOCATION:North Florida Motorplex\, 21281 Apachee Road\, Fountain\, FL\, 32438\, United States
CATEGORIES:Drag Race
ORGANIZER;CN="North Florida Motorplex":MAILTO:info@northfloridamotorplex.com
END:VEVENT
BEGIN:VEVENT
DTSTART;VALUE=DATE:20220702
DTEND;VALUE=DATE:20220703
DTSTAMP:20260425T095925
CREATED:20220128T193303Z
LAST-MODIFIED:20220622T201235Z
UID:4522-1656720000-1656806399@northfloridamotorplex.com
SUMMARY:4th of July "Night of Fire" SNRA Pro Mod + Jet Cars
DESCRIPTION:Come enjoy the fireworks! \nFeaturing:\nSNRA Pro Mod Series\nNitromethane Funny Cars\nJet Funny Car Shootout \nCLICK HERE TO GET TICKETS
URL:https://northfloridamotorplex.com/event/4th-of-july-night-of-fire-snra-pro-mod-jet-cars/
LOCATION:North Florida Motorplex\, 21281 Apachee Road\, Fountain\, FL\, 32438\, United States
CATEGORIES:Drag Race
ORGANIZER;CN="North Florida Motorplex":MAILTO:info@northfloridamotorplex.com
END:VEVENT
BEGIN:VEVENT
DTSTART;VALUE=DATE:20220702
DTEND;VALUE=DATE:20220703
DTSTAMP:20260425T095925
CREATED:20220128T182308Z
LAST-MODIFIED:20220614T164720Z
UID:4456-1656720000-1656806399@northfloridamotorplex.com
SUMMARY:Monster Energy Championship Bracket Racing Series #9
DESCRIPTION:
URL:https://northfloridamotorplex.com/event/monster-energy-championship-bracket-racing-series-9/
LOCATION:North Florida Motorplex\, 21281 Apachee Road\, Fountain\, FL\, 32438\, United States
CATEGORIES:Drag Race
ORGANIZER;CN="North Florida Motorplex":MAILTO:info@northfloridamotorplex.com
END:VEVENT
END:VCALENDAR