BEGIN:VCALENDAR
VERSION:2.0
PRODID:-//North Florida Motorplex - ECPv6.15.20//NONSGML v1.0//EN
CALSCALE:GREGORIAN
METHOD:PUBLISH
X-WR-CALNAME:North Florida Motorplex
X-ORIGINAL-URL:https://northfloridamotorplex.com
X-WR-CALDESC:Events for North Florida Motorplex
REFRESH-INTERVAL;VALUE=DURATION:PT1H
X-Robots-Tag:noindex
X-PUBLISHED-TTL:PT1H
BEGIN:VTIMEZONE
TZID:America/New_York
BEGIN:DAYLIGHT
TZOFFSETFROM:-0500
TZOFFSETTO:-0400
TZNAME:EDT
DTSTART:20220313T070000
END:DAYLIGHT
BEGIN:STANDARD
TZOFFSETFROM:-0400
TZOFFSETTO:-0500
TZNAME:EST
DTSTART:20221106T060000
END:STANDARD
BEGIN:DAYLIGHT
TZOFFSETFROM:-0500
TZOFFSETTO:-0400
TZNAME:EDT
DTSTART:20230312T070000
END:DAYLIGHT
BEGIN:STANDARD
TZOFFSETFROM:-0400
TZOFFSETTO:-0500
TZNAME:EST
DTSTART:20231105T060000
END:STANDARD
BEGIN:DAYLIGHT
TZOFFSETFROM:-0500
TZOFFSETTO:-0400
TZNAME:EDT
DTSTART:20240310T070000
END:DAYLIGHT
BEGIN:STANDARD
TZOFFSETFROM:-0400
TZOFFSETTO:-0500
TZNAME:EST
DTSTART:20241103T060000
END:STANDARD
BEGIN:DAYLIGHT
TZOFFSETFROM:-0500
TZOFFSETTO:-0400
TZNAME:EDT
DTSTART:20250309T070000
END:DAYLIGHT
BEGIN:STANDARD
TZOFFSETFROM:-0400
TZOFFSETTO:-0500
TZNAME:EST
DTSTART:20251102T060000
END:STANDARD
END:VTIMEZONE
BEGIN:VEVENT
DTSTART;VALUE=DATE:20241012
DTEND;VALUE=DATE:20241013
DTSTAMP:20260425T080455
CREATED:20240830T164402Z
LAST-MODIFIED:20241008T132729Z
UID:7293-1728691200-1728777599@northfloridamotorplex.com
SUMMARY:Index Points Race #6\, 28x Race #5 (Bracket Race)
DESCRIPTION:
URL:https://northfloridamotorplex.com/event/index-points-race-6-28x-race-5-bracket-race/
LOCATION:North Florida Motorplex\, 21281 Apachee Road\, Fountain\, FL\, 32438\, United States
CATEGORIES:Drag Race
ATTACH;FMTTYPE=image/jpeg:https://northfloridamotorplex.com/wp-content/uploads/2024/08/nfm-flyr.jpg
ORGANIZER;CN="North Florida Motorplex":MAILTO:info@northfloridamotorplex.com
END:VEVENT
BEGIN:VEVENT
DTSTART;VALUE=DATE:20241005
DTEND;VALUE=DATE:20241006
DTSTAMP:20260425T080455
CREATED:20240830T164340Z
LAST-MODIFIED:20240830T191428Z
UID:7292-1728086400-1728172799@northfloridamotorplex.com
SUMMARY:Nitro Madness & Nostalgia Alcohol Funny Cars\, 4.70/5.50/6.50 Index/Bracket
DESCRIPTION:
URL:https://northfloridamotorplex.com/event/nitro-madness-nostalgia-alcohol-funny-cars-4-70-5-50-6-50-index-bracket/
LOCATION:North Florida Motorplex\, 21281 Apachee Road\, Fountain\, FL\, 32438\, United States
CATEGORIES:Drag Race
ATTACH;FMTTYPE=image/jpeg:https://northfloridamotorplex.com/wp-content/uploads/2024/08/2024-10-0405a.jpg
ORGANIZER;CN="North Florida Motorplex":MAILTO:info@northfloridamotorplex.com
END:VEVENT
BEGIN:VEVENT
DTSTART;VALUE=DATE:20241004
DTEND;VALUE=DATE:20241005
DTSTAMP:20260425T080455
CREATED:20240830T163559Z
LAST-MODIFIED:20240830T191400Z
UID:7281-1728000000-1728086399@northfloridamotorplex.com
SUMMARY:Test-N-Tune
DESCRIPTION:
URL:https://northfloridamotorplex.com/event/test-n-tune/
LOCATION:North Florida Motorplex\, 21281 Apachee Road\, Fountain\, FL\, 32438\, United States
CATEGORIES:Drag Race
ATTACH;FMTTYPE=image/jpeg:https://northfloridamotorplex.com/wp-content/uploads/2024/08/2024-10-0405a.jpg
ORGANIZER;CN="North Florida Motorplex":MAILTO:info@northfloridamotorplex.com
END:VEVENT
BEGIN:VEVENT
DTSTART;VALUE=DATE:20240929
DTEND;VALUE=DATE:20240930
DTSTAMP:20260425T080455
CREATED:20240830T163531Z
LAST-MODIFIED:20240830T190217Z
UID:7280-1727568000-1727654399@northfloridamotorplex.com
SUMMARY:Sunday Funday
DESCRIPTION:
URL:https://northfloridamotorplex.com/event/sunday-funday-3/
LOCATION:North Florida Motorplex\, 21281 Apachee Road\, Fountain\, FL\, 32438\, United States
CATEGORIES:Drag Race
ATTACH;FMTTYPE=image/jpeg:https://northfloridamotorplex.com/wp-content/uploads/2024/08/2024-Sunday-Funday.jpg
ORGANIZER;CN="North Florida Motorplex":MAILTO:info@northfloridamotorplex.com
END:VEVENT
BEGIN:VEVENT
DTSTART;VALUE=DATE:20240928
DTEND;VALUE=DATE:20240929
DTSTAMP:20260425T080455
CREATED:20240830T163515Z
LAST-MODIFIED:20240830T191228Z
UID:7279-1727481600-1727567999@northfloridamotorplex.com
SUMMARY:Gulf Coast Mixer Big Tire
DESCRIPTION:
URL:https://northfloridamotorplex.com/event/gulf-coast-mixer-big-tire/
LOCATION:North Florida Motorplex\, 21281 Apachee Road\, Fountain\, FL\, 32438\, United States
CATEGORIES:Drag Race
ATTACH;FMTTYPE=image/jpeg:https://northfloridamotorplex.com/wp-content/uploads/2024/08/2024-09-28-gulf-coast-mixer.jpg
ORGANIZER;CN="North Florida Motorplex":MAILTO:info@northfloridamotorplex.com
END:VEVENT
BEGIN:VEVENT
DTSTART;VALUE=DATE:20240921
DTEND;VALUE=DATE:20240922
DTSTAMP:20260425T080455
CREATED:20240830T163454Z
LAST-MODIFIED:20240830T163454Z
UID:7278-1726876800-1726963199@northfloridamotorplex.com
SUMMARY:SDRA Nostalgia Race / Classic Car Show
DESCRIPTION:
URL:https://northfloridamotorplex.com/event/sdra-nostalgia-race-classic-car-show/
LOCATION:North Florida Motorplex\, 21281 Apachee Road\, Fountain\, FL\, 32438\, United States
CATEGORIES:Drag Race
ORGANIZER;CN="North Florida Motorplex":MAILTO:info@northfloridamotorplex.com
END:VEVENT
BEGIN:VEVENT
DTSTART;VALUE=DATE:20240920
DTEND;VALUE=DATE:20240921
DTSTAMP:20260425T080455
CREATED:20240830T163431Z
LAST-MODIFIED:20240830T163431Z
UID:7277-1726790400-1726876799@northfloridamotorplex.com
SUMMARY:SDRA Reunion & Banquet
DESCRIPTION:
URL:https://northfloridamotorplex.com/event/sdra-reunion-banquet/
LOCATION:North Florida Motorplex\, 21281 Apachee Road\, Fountain\, FL\, 32438\, United States
CATEGORIES:Drag Race
ORGANIZER;CN="North Florida Motorplex":MAILTO:info@northfloridamotorplex.com
END:VEVENT
BEGIN:VEVENT
DTSTART;VALUE=DATE:20240915
DTEND;VALUE=DATE:20240916
DTSTAMP:20260425T080455
CREATED:20240830T163411Z
LAST-MODIFIED:20240830T190205Z
UID:7276-1726358400-1726444799@northfloridamotorplex.com
SUMMARY:Sunday Funday
DESCRIPTION:
URL:https://northfloridamotorplex.com/event/sunday-funday-2/
LOCATION:North Florida Motorplex\, 21281 Apachee Road\, Fountain\, FL\, 32438\, United States
CATEGORIES:Drag Race
ATTACH;FMTTYPE=image/jpeg:https://northfloridamotorplex.com/wp-content/uploads/2024/08/2024-Sunday-Funday.jpg
ORGANIZER;CN="North Florida Motorplex":MAILTO:info@northfloridamotorplex.com
END:VEVENT
BEGIN:VEVENT
DTSTART;VALUE=DATE:20240914
DTEND;VALUE=DATE:20240915
DTSTAMP:20260425T080455
CREATED:20240830T163354Z
LAST-MODIFIED:20240830T191130Z
UID:7275-1726272000-1726358399@northfloridamotorplex.com
SUMMARY:Index Points Race #5\, 28x Points Race #4
DESCRIPTION:
URL:https://northfloridamotorplex.com/event/index-points-race-5-28x-points-race-4/
LOCATION:North Florida Motorplex\, 21281 Apachee Road\, Fountain\, FL\, 32438\, United States
CATEGORIES:Drag Race
ATTACH;FMTTYPE=image/jpeg:https://northfloridamotorplex.com/wp-content/uploads/2024/08/2024-09-14.jpg
ORGANIZER;CN="North Florida Motorplex":MAILTO:info@northfloridamotorplex.com
END:VEVENT
BEGIN:VEVENT
DTSTART;VALUE=DATE:20240908
DTEND;VALUE=DATE:20240909
DTSTAMP:20260425T080455
CREATED:20240830T163330Z
LAST-MODIFIED:20240830T190947Z
UID:7274-1725753600-1725839999@northfloridamotorplex.com
SUMMARY:Bracket Points Race #2
DESCRIPTION:
URL:https://northfloridamotorplex.com/event/bracket-points-race-2/
LOCATION:North Florida Motorplex\, 21281 Apachee Road\, Fountain\, FL\, 32438\, United States
CATEGORIES:Drag Race
ATTACH;FMTTYPE=image/jpeg:https://northfloridamotorplex.com/wp-content/uploads/2024/08/2024-09-0708.jpg
ORGANIZER;CN="North Florida Motorplex":MAILTO:info@northfloridamotorplex.com
END:VEVENT
BEGIN:VEVENT
DTSTART;VALUE=DATE:20240907
DTEND;VALUE=DATE:20240908
DTSTAMP:20260425T080455
CREATED:20240830T163308Z
LAST-MODIFIED:20240830T190939Z
UID:7272-1725667200-1725753599@northfloridamotorplex.com
SUMMARY:Make-Up Bracket Points Race #1
DESCRIPTION:
URL:https://northfloridamotorplex.com/event/make-up-bracket-points-race-1/
LOCATION:North Florida Motorplex\, 21281 Apachee Road\, Fountain\, FL\, 32438\, United States
CATEGORIES:Drag Race
ATTACH;FMTTYPE=image/jpeg:https://northfloridamotorplex.com/wp-content/uploads/2024/08/2024-09-0708.jpg
ORGANIZER;CN="North Florida Motorplex":MAILTO:info@northfloridamotorplex.com
END:VEVENT
BEGIN:VEVENT
DTSTART;VALUE=DATE:20240901
DTEND;VALUE=DATE:20240902
DTSTAMP:20260425T080455
CREATED:20240830T163241Z
LAST-MODIFIED:20240830T185900Z
UID:7273-1725148800-1725235199@northfloridamotorplex.com
SUMMARY:Sunday Funday
DESCRIPTION:
URL:https://northfloridamotorplex.com/event/sunday-funday/
LOCATION:North Florida Motorplex\, 21281 Apachee Road\, Fountain\, FL\, 32438\, United States
CATEGORIES:Drag Race
ATTACH;FMTTYPE=image/jpeg:https://northfloridamotorplex.com/wp-content/uploads/2024/08/2024-Sunday-Funday-0901.jpg
ORGANIZER;CN="North Florida Motorplex":MAILTO:info@northfloridamotorplex.com
END:VEVENT
BEGIN:VEVENT
DTSTART;TZID=America/New_York:20240608T080000
DTEND;TZID=America/New_York:20240609T220000
DTSTAMP:20260425T080455
CREATED:20231116T140408Z
LAST-MODIFIED:20231206T175138Z
UID:7082-1717833600-1717970400@northfloridamotorplex.com
SUMMARY:Coca-Cola Points Series Races #7 & #8
DESCRIPTION:
URL:https://northfloridamotorplex.com/event/coca-cola-points-series-races-7-8/
LOCATION:North Florida Motorplex\, 21281 Apachee Road\, Fountain\, FL\, 32438\, United States
CATEGORIES:Drag Race
ORGANIZER;CN="North Florida Motorplex":MAILTO:info@northfloridamotorplex.com
END:VEVENT
BEGIN:VEVENT
DTSTART;TZID=America/New_York:20240504T080000
DTEND;TZID=America/New_York:20240505T220000
DTSTAMP:20260425T080455
CREATED:20231116T140352Z
LAST-MODIFIED:20231206T175131Z
UID:7081-1714809600-1714946400@northfloridamotorplex.com
SUMMARY:Coca-Cola Points Series Races #5 & #6
DESCRIPTION:
URL:https://northfloridamotorplex.com/event/coca-cola-points-series-races-5-6/
LOCATION:North Florida Motorplex\, 21281 Apachee Road\, Fountain\, FL\, 32438\, United States
CATEGORIES:Drag Race
ORGANIZER;CN="North Florida Motorplex":MAILTO:info@northfloridamotorplex.com
END:VEVENT
BEGIN:VEVENT
DTSTART;TZID=America/New_York:20240420T080000
DTEND;TZID=America/New_York:20240421T220000
DTSTAMP:20260425T080455
CREATED:20231116T140342Z
LAST-MODIFIED:20231206T175126Z
UID:7080-1713600000-1713736800@northfloridamotorplex.com
SUMMARY:Coca-Cola Points Series Races #3 & #4
DESCRIPTION:
URL:https://northfloridamotorplex.com/event/coca-cola-points-series-races-3-4/
LOCATION:North Florida Motorplex\, 21281 Apachee Road\, Fountain\, FL\, 32438\, United States
CATEGORIES:Drag Race
ORGANIZER;CN="North Florida Motorplex":MAILTO:info@northfloridamotorplex.com
END:VEVENT
BEGIN:VEVENT
DTSTART;TZID=America/New_York:20240302T080000
DTEND;TZID=America/New_York:20240303T220000
DTSTAMP:20260425T080455
CREATED:20231116T140140Z
LAST-MODIFIED:20231206T175137Z
UID:7075-1709366400-1709503200@northfloridamotorplex.com
SUMMARY:Coca-Cola Points Series Races #1 & #2
DESCRIPTION:
URL:https://northfloridamotorplex.com/event/coca-cola-points-series-races-1-2/
LOCATION:North Florida Motorplex\, 21281 Apachee Road\, Fountain\, FL\, 32438\, United States
CATEGORIES:Drag Race
ORGANIZER;CN="North Florida Motorplex":MAILTO:info@northfloridamotorplex.com
END:VEVENT
BEGIN:VEVENT
DTSTART;VALUE=DATE:20240210
DTEND;VALUE=DATE:20240211
DTSTAMP:20260425T080455
CREATED:20231128T191130Z
LAST-MODIFIED:20231128T191132Z
UID:7093-1707523200-1707609599@northfloridamotorplex.com
SUMMARY:Tech & Tune
DESCRIPTION:WDRA Chassis Certifications + Test-N-Tune Session
URL:https://northfloridamotorplex.com/event/tech-tune/
LOCATION:North Florida Motorplex\, 21281 Apachee Road\, Fountain\, FL\, 32438\, United States
CATEGORIES:Drag Race
ORGANIZER;CN="North Florida Motorplex":MAILTO:info@northfloridamotorplex.com
END:VEVENT
BEGIN:VEVENT
DTSTART;TZID=America/New_York:20240127T180000
DTEND;TZID=America/New_York:20240127T210000
DTSTAMP:20260425T080455
CREATED:20231129T143757Z
LAST-MODIFIED:20240115T181351Z
UID:7097-1706378400-1706389200@northfloridamotorplex.com
SUMMARY:Track Banquet
DESCRIPTION:
URL:https://northfloridamotorplex.com/event/test-tune-2/
LOCATION:WT Neal Civic Center\, 17773 NE Pear St\, Blountstown\, Florida\, United States
CATEGORIES:Drag Race
ATTACH;FMTTYPE=image/png:https://northfloridamotorplex.com/wp-content/uploads/2023/11/Gold-Black-Elegant-Graduation-Party-Invitation.png
ORGANIZER;CN="North Florida Motorplex":MAILTO:info@northfloridamotorplex.com
END:VEVENT
BEGIN:VEVENT
DTSTART;TZID=America/New_York:20231216T090000
DTEND;TZID=America/New_York:20231216T210000
DTSTAMP:20260425T080455
CREATED:20231031T180605Z
LAST-MODIFIED:20231101T000346Z
UID:7040-1702717200-1702760400@northfloridamotorplex.com
SUMMARY:2023 Christmas Bash- Box/NB/Jr's/28 Radial/ 28 Slicks/ ET Bikes/ 5.70 & 6.50 Index
DESCRIPTION:
URL:https://northfloridamotorplex.com/event/2023-christmas-bash/
LOCATION:North Florida Motorplex\, 21281 Apachee Road\, Fountain\, FL\, 32438\, United States
CATEGORIES:Drag Race
ATTACH;FMTTYPE=image/jpeg:https://northfloridamotorplex.com/wp-content/uploads/2023/10/Christmas-Bash.jpg
END:VEVENT
BEGIN:VEVENT
DTSTART;TZID=America/New_York:20231118T100000
DTEND;TZID=America/New_York:20231118T170000
DTSTAMP:20260425T080455
CREATED:20231116T013622Z
LAST-MODIFIED:20231116T014133Z
UID:7069-1700301600-1700326800@northfloridamotorplex.com
SUMMARY:Test & Tune
DESCRIPTION:
URL:https://northfloridamotorplex.com/event/test-tune/
LOCATION:North Florida Motorplex\, 21281 Apachee Road\, Fountain\, FL\, 32438\, United States
CATEGORIES:Drag Race
ATTACH;FMTTYPE=image/jpeg:https://northfloridamotorplex.com/wp-content/uploads/2023/11/TNT.jpg
END:VEVENT
BEGIN:VEVENT
DTSTART;VALUE=DATE:20231110
DTEND;VALUE=DATE:20231112
DTSTAMP:20260425T080455
CREATED:20231002T180312Z
LAST-MODIFIED:20231101T001919Z
UID:6977-1699574400-1699747199@northfloridamotorplex.com
SUMMARY:Veterans Day Small Tire Shootout
DESCRIPTION:
URL:https://northfloridamotorplex.com/event/veterans-day-small-tire-shootout/
LOCATION:North Florida Motorplex\, 21281 Apachee Road\, Fountain\, FL\, 32438\, United States
CATEGORIES:Drag Race
ATTACH;FMTTYPE=image/jpeg:https://northfloridamotorplex.com/wp-content/uploads/2023/10/IMG_4972.jpg
END:VEVENT
BEGIN:VEVENT
DTSTART;VALUE=DATE:20231103
DTEND;VALUE=DATE:20231106
DTSTAMP:20260425T080455
CREATED:20231102T185643Z
LAST-MODIFIED:20231102T185643Z
UID:7063-1698969600-1699228799@northfloridamotorplex.com
SUMMARY:Closed
DESCRIPTION:
URL:https://northfloridamotorplex.com/event/closed-2/
LOCATION:North Florida Motorplex\, 21281 Apachee Road\, Fountain\, FL\, 32438\, United States
CATEGORIES:Dirt Track Race,Drag Race
END:VEVENT
BEGIN:VEVENT
DTSTART;VALUE=DATE:20231027
DTEND;VALUE=DATE:20231030
DTSTAMP:20260425T080455
CREATED:20230524T212825Z
LAST-MODIFIED:20231003T142409Z
UID:6790-1698364800-1698623999@northfloridamotorplex.com
SUMMARY:2023 Halloween Spooktacular/Triple Pumpkins 5k
DESCRIPTION:
URL:https://northfloridamotorplex.com/event/2023-halloween-spooktacular-triple-pumpkins-5k/
LOCATION:North Florida Motorplex\, 21281 Apachee Road\, Fountain\, FL\, 32438\, United States
CATEGORIES:Drag Race
ATTACH;FMTTYPE=image/jpeg:https://northfloridamotorplex.com/wp-content/uploads/2023/05/halloween-print.jpg
END:VEVENT
BEGIN:VEVENT
DTSTART;TZID=America/New_York:20231015T130000
DTEND;TZID=America/New_York:20231015T190000
DTSTAMP:20260425T080455
CREATED:20231003T193244Z
LAST-MODIFIED:20231003T193307Z
UID:6984-1697374800-1697396400@northfloridamotorplex.com
SUMMARY:Sunday Fun Day/Grudge Racing
DESCRIPTION:
URL:https://northfloridamotorplex.com/event/sunday-fun-day/
LOCATION:North Florida Motorplex\, 21281 Apachee Road\, Fountain\, FL\, 32438\, United States
CATEGORIES:Drag Race
ATTACH;FMTTYPE=image/jpeg:https://northfloridamotorplex.com/wp-content/uploads/2023/10/IMG_5559.jpg
END:VEVENT
BEGIN:VEVENT
DTSTART;TZID=America/New_York:20231014T120000
DTEND;TZID=America/New_York:20231014T230000
DTSTAMP:20260425T080455
CREATED:20230302T185726Z
LAST-MODIFIED:20231003T194004Z
UID:6676-1697284800-1697324400@northfloridamotorplex.com
SUMMARY:Peanut Patch Index Points Series Race #6/ Free Entry Bracket Race
DESCRIPTION:
URL:https://northfloridamotorplex.com/event/peanut-patch-index-points-series-race-6-free-entry-bracket-race/
LOCATION:North Florida Motorplex\, 21281 Apachee Road\, Fountain\, FL\, 32438\, United States
CATEGORIES:Drag Race
ATTACH;FMTTYPE=image/jpeg:https://northfloridamotorplex.com/wp-content/uploads/2023/03/Sept-index-2.jpg
END:VEVENT
BEGIN:VEVENT
DTSTART;VALUE=DATE:20230930
DTEND;VALUE=DATE:20231001
DTSTAMP:20260425T080455
CREATED:20230302T185600Z
LAST-MODIFIED:20230906T214524Z
UID:6674-1696032000-1696118399@northfloridamotorplex.com
SUMMARY:Pro Mod Shootout/ Peanut Patch Index Points Series Race #5/ Free Entry Bracket Race
DESCRIPTION:
URL:https://northfloridamotorplex.com/event/peanut-patch-index-points-series-race-5-free-entry-bracket-race/
LOCATION:North Florida Motorplex\, 21281 Apachee Road\, Fountain\, FL\, 32438\, United States
CATEGORIES:Drag Race
ATTACH;FMTTYPE=image/jpeg:https://northfloridamotorplex.com/wp-content/uploads/2023/03/Sept-index.jpg
END:VEVENT
BEGIN:VEVENT
DTSTART;TZID=America/New_York:20230916T150000
DTEND;TZID=America/New_York:20230916T233000
DTSTAMP:20260425T080455
CREATED:20230718T220053Z
LAST-MODIFIED:20230906T214354Z
UID:6870-1694876400-1694907000@northfloridamotorplex.com
SUMMARY:Battle at the Beach $5\,000 Guaranteed No Prep Event
DESCRIPTION:  \n \n 
URL:https://northfloridamotorplex.com/event/north-florida-5000-guaranteed-team-no-prep-event/
LOCATION:North Florida Motorplex\, 21281 Apachee Road\, Fountain\, FL\, 32438\, United States
CATEGORIES:Drag Race
ATTACH;FMTTYPE=image/png:https://northfloridamotorplex.com/wp-content/uploads/2023/07/no-prep.png
END:VEVENT
BEGIN:VEVENT
DTSTART;TZID=America/New_York:20230819T170000
DTEND;TZID=America/New_York:20230819T233000
DTSTAMP:20260425T080455
CREATED:20230716T163436Z
LAST-MODIFIED:20230818T144045Z
UID:6858-1692464400-1692487800@northfloridamotorplex.com
SUMMARY:Panhandle Takeover
DESCRIPTION:
URL:https://northfloridamotorplex.com/event/panhandle-takeover/
LOCATION:FL
CATEGORIES:Drag Race
ATTACH;FMTTYPE=image/jpeg:https://northfloridamotorplex.com/wp-content/uploads/2023/07/take-3.jpg
END:VEVENT
BEGIN:VEVENT
DTSTART;TZID=America/New_York:20230818T180000
DTEND;TZID=America/New_York:20230818T233000
DTSTAMP:20260425T080455
CREATED:20230818T144326Z
LAST-MODIFIED:20230818T144326Z
UID:6943-1692381600-1692401400@northfloridamotorplex.com
SUMMARY:Friday Night Testing/ NO HARD TIRES
DESCRIPTION:
URL:https://northfloridamotorplex.com/event/friday-night-testing-no-hard-tires/
LOCATION:FL
CATEGORIES:Drag Race
ATTACH;FMTTYPE=image/png:https://northfloridamotorplex.com/wp-content/uploads/2023/08/FRI.png
END:VEVENT
BEGIN:VEVENT
DTSTART;TZID=America/New_York:20230811T170000
DTEND;TZID=America/New_York:20230811T220000
DTSTAMP:20260425T080455
CREATED:20230725T212422Z
LAST-MODIFIED:20230809T231315Z
UID:6912-1691773200-1691791200@northfloridamotorplex.com
SUMMARY:Back to School TNT Night/ All Students Free!
DESCRIPTION:
URL:https://northfloridamotorplex.com/event/back-to-school-tnt-night/
LOCATION:North Florida Motorplex\, 21281 Apachee Road\, Fountain\, FL\, 32438\, United States
CATEGORIES:Drag Race
ATTACH;FMTTYPE=image/jpeg:https://northfloridamotorplex.com/wp-content/uploads/2023/07/back2school.jpg
END:VEVENT
END:VCALENDAR